Package: semisup Version: 1.31.0 Command: /home/biocbuild/bbs-3.21-bioc/R/bin/R CMD build --keep-empty-dirs --no-resave-data semisup StartedAt: 2025-02-20 19:15:08 -0500 (Thu, 20 Feb 2025) EndedAt: 2025-02-20 19:15:16 -0500 (Thu, 20 Feb 2025) EllapsedTime: 8.0 seconds RetCode: 0 Status: OK PackageFile: semisup_1.31.0.tar.gz PackageFileSize: 306.3 KiB