Package: semisup Version: 1.31.0 Command: /Library/Frameworks/R.framework/Resources/bin/R CMD INSTALL semisup StartedAt: 2025-02-20 15:04:54 -0500 (Thu, 20 Feb 2025) EndedAt: 2025-02-20 15:05:27 -0500 (Thu, 20 Feb 2025) EllapsedTime: 32.8 seconds RetCode: 0 Status: OK