Package: semisup Version: 1.31.0 Command: /Library/Frameworks/R.framework/Resources/bin/R CMD build --keep-empty-dirs --no-resave-data semisup StartedAt: 2025-02-20 18:14:23 -0500 (Thu, 20 Feb 2025) EndedAt: 2025-02-20 18:14:39 -0500 (Thu, 20 Feb 2025) EllapsedTime: 16.0 seconds RetCode: 0 Status: OK PackageFile: semisup_1.31.0.tar.gz PackageFileSize: 306.3 KiB