Package: semisup Version: 1.31.0 Command: /Library/Frameworks/R.framework/Resources/bin/R CMD check --install=check:semisup.install-out.txt --library=/Library/Frameworks/R.framework/Resources/library --no-vignettes --timings semisup_1.31.0.tar.gz StartedAt: 2025-02-20 21:22:48 -0500 (Thu, 20 Feb 2025) EndedAt: 2025-02-20 21:23:05 -0500 (Thu, 20 Feb 2025) EllapsedTime: 17.2 seconds RetCode: 0 Status: OK CheckDir: semisup.Rcheck Warnings: 0