Package: semisup Version: 1.31.0 Command: rm -rf semisup.buildbin-libdir && mkdir semisup.buildbin-libdir && /Users/biocbuild/BBS/utils/build-universal.sh semisup_1.31.0.tar.gz /Library/Frameworks/R.framework/Resources/bin/R semisup.buildbin-libdir StartedAt: 2025-02-20 22:35:13 -0500 (Thu, 20 Feb 2025) EndedAt: 2025-02-20 22:35:15 -0500 (Thu, 20 Feb 2025) EllapsedTime: 2.0 seconds RetCode: 0 Status: OK PackageFile: semisup_1.31.0.tgz PackageFileSize: 377.3 KiB