Package: selectKSigs Version: 1.19.0 Command: /Library/Frameworks/R.framework/Resources/bin/R CMD build --keep-empty-dirs --no-resave-data selectKSigs StartedAt: 2025-02-19 17:36:37 -0500 (Wed, 19 Feb 2025) EndedAt: 2025-02-19 17:37:13 -0500 (Wed, 19 Feb 2025) EllapsedTime: 36.4 seconds RetCode: 0 Status: OK PackageFile: selectKSigs_1.19.0.tar.gz PackageFileSize: 406.7 KiB