Package: selectKSigs Version: 1.19.0 Command: rm -rf selectKSigs.buildbin-libdir && mkdir selectKSigs.buildbin-libdir && /Users/biocbuild/BBS/utils/build-universal.sh selectKSigs_1.19.0.tar.gz /Library/Frameworks/R.framework/Resources/bin/R selectKSigs.buildbin-libdir StartedAt: 2025-02-19 22:38:20 -0500 (Wed, 19 Feb 2025) EndedAt: 2025-02-19 22:38:26 -0500 (Wed, 19 Feb 2025) EllapsedTime: 6.2 seconds RetCode: 0 Status: OK PackageFile: selectKSigs_1.19.0.tgz PackageFileSize: 490.3 KiB