Package: segmenter Version: 1.13.0 Command: /home/biocbuild/bbs-3.21-bioc/R/bin/R CMD build --keep-empty-dirs --no-resave-data segmenter StartedAt: 2025-02-20 19:14:35 -0500 (Thu, 20 Feb 2025) EndedAt: 2025-02-20 19:21:40 -0500 (Thu, 20 Feb 2025) EllapsedTime: 424.6 seconds RetCode: 0 Status: OK PackageFile: segmenter_1.13.0.tar.gz PackageFileSize: 3.983 MiB