Package: segmenter Version: 1.14.0 Command: /Library/Frameworks/R.framework/Resources/bin/R CMD INSTALL segmenter StartedAt: 2025-10-13 18:32:26 -0400 (Mon, 13 Oct 2025) EndedAt: 2025-10-13 18:33:19 -0400 (Mon, 13 Oct 2025) EllapsedTime: 53.0 seconds RetCode: 0 Status: OK