Package: segmenter Version: 1.14.0 Command: /Library/Frameworks/R.framework/Resources/bin/R CMD build --keep-empty-dirs --no-resave-data segmenter StartedAt: 2025-10-14 09:14:12 -0400 (Tue, 14 Oct 2025) EndedAt: 2025-10-14 09:23:00 -0400 (Tue, 14 Oct 2025) EllapsedTime: 528.1 seconds RetCode: 0 Status: OK PackageFile: segmenter_1.14.0.tar.gz PackageFileSize: 3.995 MiB