Package: segmentSeq Version: 2.41.1 Command: E:\biocbuild\bbs-3.21-bioc\R\bin\R.exe CMD INSTALL segmentSeq StartedAt: 2025-02-20 16:41:17 -0500 (Thu, 20 Feb 2025) EndedAt: 2025-02-20 16:42:14 -0500 (Thu, 20 Feb 2025) EllapsedTime: 57.4 seconds RetCode: 0 Status: OK