Package: segmentSeq Version: 2.41.1 Command: chmod a+r segmentSeq -R && E:\biocbuild\bbs-3.21-bioc\R\bin\R.exe CMD build --keep-empty-dirs --no-resave-data segmentSeq StartedAt: 2025-02-20 21:43:41 -0500 (Thu, 20 Feb 2025) EndedAt: 2025-02-20 21:47:15 -0500 (Thu, 20 Feb 2025) EllapsedTime: 214.2 seconds RetCode: 0 Status: OK PackageFile: segmentSeq_2.41.1.tar.gz PackageFileSize: 2.803 MiB