Package: segmentSeq Version: 2.41.1 Command: rm -rf segmentSeq.buildbin-libdir && mkdir segmentSeq.buildbin-libdir && E:\biocbuild\bbs-3.21-bioc\R\bin\R.exe CMD INSTALL --build --library=segmentSeq.buildbin-libdir segmentSeq_2.41.1.tar.gz StartedAt: 2025-02-21 09:04:23 -0500 (Fri, 21 Feb 2025) EndedAt: 2025-02-21 09:05:42 -0500 (Fri, 21 Feb 2025) EllapsedTime: 79.2 seconds RetCode: 0 Status: OK PackageFile: segmentSeq_2.41.1.zip PackageFileSize: 3.547 MiB