Package: segmentSeq Version: 2.42.0 Command: /Library/Frameworks/R.framework/Resources/bin/R CMD INSTALL segmentSeq StartedAt: 2025-09-29 16:32:02 -0400 (Mon, 29 Sep 2025) EndedAt: 2025-09-29 16:33:31 -0400 (Mon, 29 Sep 2025) EllapsedTime: 88.5 seconds RetCode: 0 Status: OK