Package: segmentSeq Version: 2.42.0 Command: /Library/Frameworks/R.framework/Resources/bin/R CMD build --keep-empty-dirs --no-resave-data segmentSeq StartedAt: 2025-09-29 22:33:36 -0400 (Mon, 29 Sep 2025) EndedAt: 2025-09-29 22:39:00 -0400 (Mon, 29 Sep 2025) EllapsedTime: 323.9 seconds RetCode: 0 Status: OK PackageFile: segmentSeq_2.42.0.tar.gz PackageFileSize: 3.073 MiB