Package: segmentSeq Version: 2.42.0 Command: rm -rf segmentSeq.buildbin-libdir && mkdir segmentSeq.buildbin-libdir && /Users/biocbuild/BBS/utils/build-universal.sh segmentSeq_2.42.0.tar.gz /Library/Frameworks/R.framework/Resources/bin/R segmentSeq.buildbin-libdir StartedAt: 2025-09-30 14:32:21 -0400 (Tue, 30 Sep 2025) EndedAt: 2025-09-30 14:34:09 -0400 (Tue, 30 Sep 2025) EllapsedTime: 108.0 seconds RetCode: 0 Status: OK PackageFile: segmentSeq_2.42.0.tgz PackageFileSize: 3.817 MiB