Package: segmentSeq Version: 2.41.1 Command: /Library/Frameworks/R.framework/Resources/bin/R CMD INSTALL segmentSeq StartedAt: 2025-02-19 15:13:22 -0500 (Wed, 19 Feb 2025) EndedAt: 2025-02-19 15:13:37 -0500 (Wed, 19 Feb 2025) EllapsedTime: 15.1 seconds RetCode: 0 Status: OK