Package: segmentSeq Version: 2.41.1 Command: rm -rf segmentSeq.buildbin-libdir && mkdir segmentSeq.buildbin-libdir && /Users/biocbuild/BBS/utils/build-universal.sh segmentSeq_2.41.1.tar.gz /Library/Frameworks/R.framework/Resources/bin/R segmentSeq.buildbin-libdir StartedAt: 2025-02-19 22:38:17 -0500 (Wed, 19 Feb 2025) EndedAt: 2025-02-19 22:38:33 -0500 (Wed, 19 Feb 2025) EllapsedTime: 16.4 seconds RetCode: 0 Status: OK PackageFile: segmentSeq_2.41.1.tgz PackageFileSize: 3.819 MiB