Package: sechm Version: 1.15.1 Command: E:\biocbuild\bbs-3.21-bioc\R\bin\R.exe CMD check --no-multiarch --install=check:sechm.install-out.txt --library=E:\biocbuild\bbs-3.21-bioc\R\library --no-vignettes --timings sechm_1.15.1.tar.gz StartedAt: 2025-02-21 05:36:13 -0500 (Fri, 21 Feb 2025) EndedAt: 2025-02-21 05:39:34 -0500 (Fri, 21 Feb 2025) EllapsedTime: 200.7 seconds RetCode: 0 Status: OK CheckDir: sechm.Rcheck Warnings: 0