Package: sechm Version: 1.15.1 Command: rm -rf sechm.buildbin-libdir && mkdir sechm.buildbin-libdir && E:\biocbuild\bbs-3.21-bioc\R\bin\R.exe CMD INSTALL --build --library=sechm.buildbin-libdir sechm_1.15.1.tar.gz StartedAt: 2025-02-21 09:04:16 -0500 (Fri, 21 Feb 2025) EndedAt: 2025-02-21 09:04:49 -0500 (Fri, 21 Feb 2025) EllapsedTime: 32.8 seconds RetCode: 0 Status: OK PackageFile: sechm_1.15.1.zip PackageFileSize: 649 KiB