Package: sechm Version: 1.15.1 Command: /home/biocbuild/bbs-3.21-bioc/R/bin/R CMD INSTALL sechm StartedAt: 2025-02-20 15:26:53 -0500 (Thu, 20 Feb 2025) EndedAt: 2025-02-20 15:27:17 -0500 (Thu, 20 Feb 2025) EllapsedTime: 23.8 seconds RetCode: 0 Status: OK