Package: sechm Version: 1.15.1 Command: /home/biocbuild/bbs-3.21-bioc/R/bin/R CMD check --install=check:sechm.install-out.txt --library=/home/biocbuild/bbs-3.21-bioc/R/site-library --timings sechm_1.15.1.tar.gz StartedAt: 2025-02-21 01:46:52 -0500 (Fri, 21 Feb 2025) EndedAt: 2025-02-21 01:50:25 -0500 (Fri, 21 Feb 2025) EllapsedTime: 213.2 seconds RetCode: 0 Status: OK CheckDir: sechm.Rcheck Warnings: 0