Package: sechm Version: 1.15.1 Command: /home/biocbuild/bbs-3.21-bioc/R/bin/R CMD build --keep-empty-dirs --no-resave-data sechm StartedAt: 2025-02-20 19:14:24 -0500 (Thu, 20 Feb 2025) EndedAt: 2025-02-20 19:15:30 -0500 (Thu, 20 Feb 2025) EllapsedTime: 66.1 seconds RetCode: 0 Status: OK PackageFile: sechm_1.15.1.tar.gz PackageFileSize: 1.048 MiB