Package: scviR Version: 1.7.0 Command: /home/biocbuild/bbs-3.21-bioc/R/bin/R CMD INSTALL scviR StartedAt: 2025-02-20 16:08:24 -0500 (Thu, 20 Feb 2025) EndedAt: 2025-02-20 16:08:54 -0500 (Thu, 20 Feb 2025) EllapsedTime: 30.4 seconds RetCode: 0 Status: OK