Package: scviR Version: 1.7.0 Command: /Library/Frameworks/R.framework/Resources/bin/R CMD INSTALL scviR StartedAt: 2025-02-20 15:39:28 -0500 (Thu, 20 Feb 2025) EndedAt: 2025-02-20 15:40:10 -0500 (Thu, 20 Feb 2025) EllapsedTime: 42.4 seconds RetCode: 0 Status: OK