Package: scviR Version: 1.7.0 Command: /Library/Frameworks/R.framework/Resources/bin/R CMD build --keep-empty-dirs --no-resave-data scviR StartedAt: 2025-02-20 18:13:19 -0500 (Thu, 20 Feb 2025) EndedAt: 2025-02-20 18:16:33 -0500 (Thu, 20 Feb 2025) EllapsedTime: 193.9 seconds RetCode: 1 Status: ERROR PackageFile: None PackageFileSize: NA