Package: scviR Version: 1.7.0 Command: /Library/Frameworks/R.framework/Resources/bin/R CMD INSTALL scviR StartedAt: 2025-02-20 15:26:05 -0500 (Thu, 20 Feb 2025) EndedAt: 2025-02-20 15:26:17 -0500 (Thu, 20 Feb 2025) EllapsedTime: 12.3 seconds RetCode: 0 Status: OK