Package: scuttle Version: 1.17.0 Command: /home/biocbuild/bbs-3.21-bioc/R/bin/R CMD INSTALL scuttle StartedAt: 2025-02-20 15:29:41 -0500 (Thu, 20 Feb 2025) EndedAt: 2025-02-20 15:30:51 -0500 (Thu, 20 Feb 2025) EllapsedTime: 69.1 seconds RetCode: 0 Status: OK