Package: scuttle Version: 1.17.0 Command: /Library/Frameworks/R.framework/Resources/bin/R CMD build --keep-empty-dirs --no-resave-data scuttle StartedAt: 2025-02-20 18:13:08 -0500 (Thu, 20 Feb 2025) EndedAt: 2025-02-20 18:15:48 -0500 (Thu, 20 Feb 2025) EllapsedTime: 159.7 seconds RetCode: 0 Status: OK PackageFile: scuttle_1.17.0.tar.gz PackageFileSize: 1006 KiB