Package: scuttle Version: 1.17.0 Command: /Library/Frameworks/R.framework/Resources/bin/R CMD INSTALL scuttle StartedAt: 2025-02-20 15:07:56 -0500 (Thu, 20 Feb 2025) EndedAt: 2025-02-20 15:08:18 -0500 (Thu, 20 Feb 2025) EllapsedTime: 21.8 seconds RetCode: 0 Status: OK