Package: scry Version: 1.19.0 Command: chmod a+r scry -R && E:\biocbuild\bbs-3.21-bioc\R\bin\R.exe CMD build --keep-empty-dirs --no-resave-data scry StartedAt: 2025-02-20 21:40:57 -0500 (Thu, 20 Feb 2025) EndedAt: 2025-02-20 21:46:56 -0500 (Thu, 20 Feb 2025) EllapsedTime: 359.3 seconds RetCode: 0 Status: OK PackageFile: scry_1.19.0.tar.gz PackageFileSize: 4.404 MiB