Package: scry Version: 1.19.0 Command: /home/biocbuild/bbs-3.21-bioc/R/bin/R CMD INSTALL scry StartedAt: 2025-02-20 16:07:14 -0500 (Thu, 20 Feb 2025) EndedAt: 2025-02-20 16:07:37 -0500 (Thu, 20 Feb 2025) EllapsedTime: 22.8 seconds RetCode: 0 Status: OK