Package: scry Version: 1.19.0 Command: /home/biocbuild/bbs-3.21-bioc/R/bin/R CMD check --install=check:scry.install-out.txt --library=/home/biocbuild/bbs-3.21-bioc/R/site-library --timings scry_1.19.0.tar.gz StartedAt: 2025-02-21 01:43:40 -0500 (Fri, 21 Feb 2025) EndedAt: 2025-02-21 01:50:15 -0500 (Fri, 21 Feb 2025) EllapsedTime: 395.4 seconds RetCode: 0 Status: OK CheckDir: scry.Rcheck Warnings: 0