Package: scry Version: 1.19.0 Command: /home/biocbuild/bbs-3.21-bioc/R/bin/R CMD build --keep-empty-dirs --no-resave-data scry StartedAt: 2025-02-20 19:12:49 -0500 (Thu, 20 Feb 2025) EndedAt: 2025-02-20 19:16:34 -0500 (Thu, 20 Feb 2025) EllapsedTime: 225.3 seconds RetCode: 0 Status: OK PackageFile: scry_1.19.0.tar.gz PackageFileSize: 4.495 MiB