Package: scry Version: 1.19.0 Command: /Library/Frameworks/R.framework/Resources/bin/R CMD check --install=check:scry.install-out.txt --library=/Library/Frameworks/R.framework/Resources/library --no-vignettes --timings scry_1.19.0.tar.gz StartedAt: 2025-02-20 23:09:18 -0500 (Thu, 20 Feb 2025) EndedAt: 2025-02-20 23:12:42 -0500 (Thu, 20 Feb 2025) EllapsedTime: 204.2 seconds RetCode: 0 Status: OK CheckDir: scry.Rcheck Warnings: 0