Package: scry Version: 1.19.0 Command: /Library/Frameworks/R.framework/Resources/bin/R CMD build --keep-empty-dirs --no-resave-data scry StartedAt: 2025-02-20 18:12:27 -0500 (Thu, 20 Feb 2025) EndedAt: 2025-02-20 18:16:46 -0500 (Thu, 20 Feb 2025) EllapsedTime: 259.1 seconds RetCode: 0 Status: OK PackageFile: scry_1.19.0.tar.gz PackageFileSize: 4.522 MiB