Package: scry Version: 1.19.0 Command: /home/biocbuild/R/R/bin/R CMD INSTALL scry StartedAt: 2025-01-29 20:27:55 -0000 (Wed, 29 Jan 2025) EndedAt: 2025-01-29 20:28:28 -0000 (Wed, 29 Jan 2025) EllapsedTime: 33.5 seconds RetCode: 0 Status: OK