Package: scry Version: 1.19.0 Command: /home/biocbuild/R/R/bin/R CMD build --keep-empty-dirs --no-resave-data scry StartedAt: 2025-01-29 02:12:44 -0000 (Wed, 29 Jan 2025) EndedAt: 2025-01-29 02:18:39 -0000 (Wed, 29 Jan 2025) EllapsedTime: 355.3 seconds RetCode: 0 Status: OK PackageFile: scry_1.19.0.tar.gz PackageFileSize: 4.427 MiB