Package: screenCounter Version: 1.7.1 Command: chmod a+r screenCounter -R && E:\biocbuild\bbs-3.21-bioc\R\bin\R.exe CMD build --keep-empty-dirs --no-resave-data screenCounter StartedAt: 2025-02-20 21:39:39 -0500 (Thu, 20 Feb 2025) EndedAt: 2025-02-20 21:41:37 -0500 (Thu, 20 Feb 2025) EllapsedTime: 117.9 seconds RetCode: 0 Status: OK PackageFile: screenCounter_1.7.1.tar.gz PackageFileSize: 292.8 KiB