Package: screenCounter Version: 1.7.1 Command: rm -rf screenCounter.buildbin-libdir && mkdir screenCounter.buildbin-libdir && E:\biocbuild\bbs-3.21-bioc\R\bin\R.exe CMD INSTALL --build --library=screenCounter.buildbin-libdir screenCounter_1.7.1.tar.gz StartedAt: 2025-02-21 09:03:35 -0500 (Fri, 21 Feb 2025) EndedAt: 2025-02-21 09:05:44 -0500 (Fri, 21 Feb 2025) EllapsedTime: 128.5 seconds RetCode: 0 Status: OK PackageFile: screenCounter_1.7.1.zip PackageFileSize: 913.7 KiB