Package: scrapper Version: 1.1.12 Command: E:\biocbuild\bbs-3.21-bioc\R\bin\R.exe CMD check --no-multiarch --install=check:scrapper.install-out.txt --library=E:\biocbuild\bbs-3.21-bioc\R\library --no-vignettes --timings scrapper_1.1.12.tar.gz StartedAt: 2025-02-20 05:14:39 -0500 (Thu, 20 Feb 2025) EndedAt: 2025-02-20 05:20:28 -0500 (Thu, 20 Feb 2025) EllapsedTime: 349.0 seconds RetCode: 0 Status: OK CheckDir: scrapper.Rcheck Warnings: 0