Package: scran Version: 1.35.0 Command: E:\biocbuild\bbs-3.21-bioc\R\bin\R.exe CMD INSTALL scran StartedAt: 2025-02-20 16:48:02 -0500 (Thu, 20 Feb 2025) EndedAt: 2025-02-20 16:49:47 -0500 (Thu, 20 Feb 2025) EllapsedTime: 104.6 seconds RetCode: 0 Status: OK