Package: scran Version: 1.35.0 Command: E:\biocbuild\bbs-3.21-bioc\R\bin\R.exe CMD check --no-multiarch --install=check:scran.install-out.txt --library=E:\biocbuild\bbs-3.21-bioc\R\library --no-vignettes --timings scran_1.35.0.tar.gz StartedAt: 2025-02-21 05:31:36 -0500 (Fri, 21 Feb 2025) EndedAt: 2025-02-21 05:46:14 -0500 (Fri, 21 Feb 2025) EllapsedTime: 878.4 seconds RetCode: 0 Status: WARNINGS CheckDir: scran.Rcheck Warnings: 1