Package: scran Version: 1.35.0 Command: /home/biocbuild/bbs-3.21-bioc/R/bin/R CMD check --install=check:scran.install-out.txt --library=/home/biocbuild/bbs-3.21-bioc/R/site-library --timings scran_1.35.0.tar.gz StartedAt: 2025-02-20 02:17:19 -0500 (Thu, 20 Feb 2025) EndedAt: 2025-02-20 02:30:40 -0500 (Thu, 20 Feb 2025) EllapsedTime: 800.2 seconds RetCode: 0 Status: WARNINGS CheckDir: scran.Rcheck Warnings: 1