Package: scran Version: 1.35.0 Command: /Library/Frameworks/R.framework/Resources/bin/R CMD check --install=check:scran.install-out.txt --library=/Library/Frameworks/R.framework/Resources/library --no-vignettes --timings scran_1.35.0.tar.gz StartedAt: 2025-02-20 23:07:15 -0500 (Thu, 20 Feb 2025) EndedAt: 2025-02-20 23:20:21 -0500 (Thu, 20 Feb 2025) EllapsedTime: 785.3 seconds RetCode: 0 Status: WARNINGS CheckDir: scran.Rcheck Warnings: 1