Package: scran Version: 1.35.0 Command: /Library/Frameworks/R.framework/Resources/bin/R CMD INSTALL scran StartedAt: 2025-02-20 15:24:59 -0500 (Thu, 20 Feb 2025) EndedAt: 2025-02-20 15:25:24 -0500 (Thu, 20 Feb 2025) EllapsedTime: 24.4 seconds RetCode: 0 Status: OK