Package: scran Version: 1.35.0 Command: /Library/Frameworks/R.framework/Resources/bin/R CMD build --keep-empty-dirs --no-resave-data scran StartedAt: 2025-02-20 17:32:41 -0500 (Thu, 20 Feb 2025) EndedAt: 2025-02-20 17:33:59 -0500 (Thu, 20 Feb 2025) EllapsedTime: 77.8 seconds RetCode: 0 Status: OK PackageFile: scran_1.35.0.tar.gz PackageFileSize: 1.858 MiB