Package: scran Version: 1.35.0 Command: rm -rf scran.buildbin-libdir && mkdir scran.buildbin-libdir && /Users/biocbuild/BBS/utils/build-universal.sh scran_1.35.0.tar.gz /Library/Frameworks/R.framework/Resources/bin/R scran.buildbin-libdir StartedAt: 2025-02-20 22:34:42 -0500 (Thu, 20 Feb 2025) EndedAt: 2025-02-20 22:35:08 -0500 (Thu, 20 Feb 2025) EllapsedTime: 26.4 seconds RetCode: 0 Status: OK PackageFile: scran_1.35.0.tgz PackageFileSize: 2.325 MiB