Package: scran Version: 1.36.0 Command: /Library/Frameworks/R.framework/Resources/bin/R CMD build --keep-empty-dirs --no-resave-data scran StartedAt: 2025-10-14 08:59:25 -0400 (Tue, 14 Oct 2025) EndedAt: 2025-10-14 09:03:21 -0400 (Tue, 14 Oct 2025) EllapsedTime: 236.2 seconds RetCode: 0 Status: OK PackageFile: scran_1.36.0.tar.gz PackageFileSize: 1.837 MiB