Package: scp Version: 1.17.0 Command: E:\biocbuild\bbs-3.21-bioc\R\bin\R.exe CMD INSTALL scp StartedAt: 2025-02-20 16:16:04 -0500 (Thu, 20 Feb 2025) EndedAt: 2025-02-20 16:16:50 -0500 (Thu, 20 Feb 2025) EllapsedTime: 46.2 seconds RetCode: 0 Status: OK